BEGIN:VCALENDAR
VERSION:2.0
PRODID:-//wp-events-plugin.com//7.2.3//EN
TZID:Europe/Berlin
X-WR-TIMEZONE:Europe/Berlin
BEGIN:VEVENT
UID:172@tt-djk-dossenheim.de
DTSTART;TZID=Europe/Berlin:20260425T160000
DTEND;TZID=Europe/Berlin:20260425T160000
DTSTAMP:20260125T091646Z
URL:https://tt-djk-dossenheim.de/events/2024-25/djk-1927-dossenheim-ii-ttc
 -wiesloch-baiertal-ii-2/
SUMMARY:DJK 1927 Dossenheim II - TTC Wiesloch-Baiertal II
DESCRIPTION:
CATEGORIES:2. Erwachsene
LOCATION:Mühlbachhalle\, Am Sportplatz 1\, Dossenheim\, 69221\, Deutschlan
 d
X-APPLE-STRUCTURED-LOCATION;VALUE=URI;X-ADDRESS=Am Sportplatz 1\, Dossenhei
 m\, 69221\, Deutschland;X-APPLE-RADIUS=100;X-TITLE=Mühlbachhalle:geo:0,0
END:VEVENT
BEGIN:VTIMEZONE
TZID:Europe/Berlin
X-LIC-LOCATION:Europe/Berlin
BEGIN:DAYLIGHT
DTSTART:20260329T030000
TZOFFSETFROM:+0100
TZOFFSETTO:+0200
TZNAME:CEST
END:DAYLIGHT
END:VTIMEZONE
END:VCALENDAR