BEGIN:VCALENDAR
VERSION:2.0
PRODID:-//wp-events-plugin.com//7.2.3//EN
TZID:Europe/Berlin
X-WR-TIMEZONE:Europe/Berlin
BEGIN:VEVENT
UID:178@tt-djk-dossenheim.de
DTSTART;TZID=Europe/Berlin:20260321T160000
DTEND;TZID=Europe/Berlin:20260321T160000
DTSTAMP:20260125T092618Z
URL:https://tt-djk-dossenheim.de/events/2024-25/djk-1927-dossenheim-sv-nik
 lashausen-ii/
SUMMARY:DJK 1927 Dossenheim - SV Niklashausen II
DESCRIPTION:
CATEGORIES:1. Erwachsene
LOCATION:Mühlbachhalle\, Am Sportplatz 1\, Dossenheim\, 69221\, Deutschlan
 d
X-APPLE-STRUCTURED-LOCATION;VALUE=URI;X-ADDRESS=Am Sportplatz 1\, Dossenhei
 m\, 69221\, Deutschland;X-APPLE-RADIUS=100;X-TITLE=Mühlbachhalle:geo:0,0
END:VEVENT
BEGIN:VTIMEZONE
TZID:Europe/Berlin
X-LIC-LOCATION:Europe/Berlin
BEGIN:STANDARD
DTSTART:20251026T020000
TZOFFSETFROM:+0200
TZOFFSETTO:+0100
TZNAME:CET
END:STANDARD
END:VTIMEZONE
END:VCALENDAR