BEGIN:VCALENDAR
VERSION:2.0
PRODID:-//wp-events-plugin.com//7.2.3//EN
TZID:Europe/Berlin
X-WR-TIMEZONE:Europe/Berlin
BEGIN:VEVENT
UID:109@tt-djk-dossenheim.de
DTSTART;TZID=Europe/Berlin:20250926T201500
DTEND;TZID=Europe/Berlin:20250926T201500
DTSTAMP:20250920T072608Z
URL:https://tt-djk-dossenheim.de/events/2024-25/djk-1927-dossenheim-v-tsv-
 gaiberg-iii/
SUMMARY:DJK 1927 Dossenheim V - TSV Gaiberg III
DESCRIPTION:TSV Gaiberg  Sportplatzstr. 19  69251 Gaiberg
CATEGORIES:5. Erwachsene
END:VEVENT
BEGIN:VTIMEZONE
TZID:Europe/Berlin
X-LIC-LOCATION:Europe/Berlin
BEGIN:DAYLIGHT
DTSTART:20250330T030000
TZOFFSETFROM:+0100
TZOFFSETTO:+0200
TZNAME:CEST
END:DAYLIGHT
END:VTIMEZONE
END:VCALENDAR