BEGIN:VCALENDAR
VERSION:2.0
PRODID:-//wp-events-plugin.com//7.2.3//EN
TZID:Europe/Berlin
X-WR-TIMEZONE:Europe/Berlin
BEGIN:VEVENT
UID:49@tt-djk-dossenheim.de
DTSTART;TZID=Europe/Berlin:20241102T173000
DTEND;TZID=Europe/Berlin:20241102T173000
DTSTAMP:20241101T160205Z
URL:https://tt-djk-dossenheim.de/events/2024-25/sg-birkenau-hemsbach-djk-1
 927-dossenheim/
SUMMARY:SG-Birkenau/Hemsbach - DJK 1927 Dossenheim
DESCRIPTION:Turnhalle BIZ. Silcherweg 8  69502 Hemsbach 
CATEGORIES:1. Erwachsene
END:VEVENT
BEGIN:VTIMEZONE
TZID:Europe/Berlin
X-LIC-LOCATION:Europe/Berlin
BEGIN:STANDARD
DTSTART:20241027T020000
TZOFFSETFROM:+0200
TZOFFSETTO:+0100
TZNAME:CET
END:STANDARD
END:VTIMEZONE
END:VCALENDAR