BEGIN:VCALENDAR
VERSION:2.0
PRODID:-//wp-events-plugin.com//7.2.3//EN
TZID:Europe/Berlin
X-WR-TIMEZONE:Europe/Berlin
BEGIN:VEVENT
UID:42@tt-djk-dossenheim.de
DTSTART;TZID=Europe/Berlin:20241123T170000
DTEND;TZID=Europe/Berlin:20241123T170000
DTSTAMP:20241018T094554Z
URL:https://tt-djk-dossenheim.de/events/2024-25/tsg-eintracht-plankstadt-v
 -djk-1927-dossenheim-iii/
SUMMARY:TSG Eintracht Plankstadt V - DJK 1927 Dossenheim III
DESCRIPTION:Friedrichschule  Friedrichstr.2  68723 Plankstadt
CATEGORIES:3. Erwachsene
END:VEVENT
BEGIN:VTIMEZONE
TZID:Europe/Berlin
X-LIC-LOCATION:Europe/Berlin
BEGIN:STANDARD
DTSTART:20241027T020000
TZOFFSETFROM:+0200
TZOFFSETTO:+0100
TZNAME:CET
END:STANDARD
END:VTIMEZONE
END:VCALENDAR