BEGIN:VCALENDAR
VERSION:2.0
PRODID:-//wp-events-plugin.com//7.2.3//EN
TZID:Europe/Berlin
X-WR-TIMEZONE:Europe/Berlin
BEGIN:VEVENT
UID:116@tt-djk-dossenheim.de
DTSTART;TZID=Europe/Berlin:20250929T200000
DTEND;TZID=Europe/Berlin:20250929T200000
DTSTAMP:20250923T095606Z
URL:https://tt-djk-dossenheim.de/events/2024-25/ttc-schwa-gold-st-ilgen-ii
 i-djk-1927-dossenheim-v/
SUMMARY:TTC Schwa-Gold St. Ilgen III - DJK 1927 Dossenheim V
DESCRIPTION:Tischtennisraum TTC-Clubhaus  Theodor-Heuss-Str. 41  69181 
 Leimen-St. Ilgen
CATEGORIES:5. Erwachsene
END:VEVENT
BEGIN:VTIMEZONE
TZID:Europe/Berlin
X-LIC-LOCATION:Europe/Berlin
BEGIN:DAYLIGHT
DTSTART:20250330T030000
TZOFFSETFROM:+0100
TZOFFSETTO:+0200
TZNAME:CEST
END:DAYLIGHT
END:VTIMEZONE
END:VCALENDAR