BEGIN:VCALENDAR
VERSION:2.0
PRODID:-//wp-events-plugin.com//7.2.3//EN
TZID:Europe/Berlin
X-WR-TIMEZONE:Europe/Berlin
BEGIN:VEVENT
UID:164@tt-djk-dossenheim.de
DTSTART;TZID=Europe/Berlin:20260415T203000
DTEND;TZID=Europe/Berlin:20260415T203000
DTSTAMP:20260118T154349Z
URL:https://tt-djk-dossenheim.de/events/2024-25/ttc-wiesloch-baiertal-x-dj
 k-1927-dossenheim-v/
SUMMARY:TTC Wiesloch Baiertal X - DJK 1927 Dossenheim V
DESCRIPTION:Etten-Leur-Halle Horrenberger Straße 50 69168 Wiesloch
CATEGORIES:5. Erwachsene
END:VEVENT
BEGIN:VTIMEZONE
TZID:Europe/Berlin
X-LIC-LOCATION:Europe/Berlin
BEGIN:DAYLIGHT
DTSTART:20260329T030000
TZOFFSETFROM:+0100
TZOFFSETTO:+0200
TZNAME:CEST
END:DAYLIGHT
END:VTIMEZONE
END:VCALENDAR