BEGIN:VCALENDAR
VERSION:2.0
PRODID:-//wp-events-plugin.com//7.2.3//EN
TZID:Europe/Berlin
X-WR-TIMEZONE:Europe/Berlin
BEGIN:VEVENT
UID:113@tt-djk-dossenheim.de
DTSTART;TZID=Europe/Berlin:20251010T194700
DTEND;TZID=Europe/Berlin:20251010T194700
DTSTAMP:20250923T094952Z
URL:https://tt-djk-dossenheim.de/events/2024-25/ttg-1947-walldorf-iv-djk-1
 927-dossenheim-iii/
SUMMARY:TTG 1947 Walldorf IV - DJK 1927 Dossenheim III
DESCRIPTION:Schulzentrum  Schwetzinger Str. 95  69190 Walldorf
CATEGORIES:3. Erwachsene
END:VEVENT
BEGIN:VTIMEZONE
TZID:Europe/Berlin
X-LIC-LOCATION:Europe/Berlin
BEGIN:DAYLIGHT
DTSTART:20250330T030000
TZOFFSETFROM:+0100
TZOFFSETTO:+0200
TZNAME:CEST
END:DAYLIGHT
END:VTIMEZONE
END:VCALENDAR