BEGIN:VCALENDAR
VERSION:2.0
PRODID:-//wp-events-plugin.com//7.2.3//EN
TZID:Europe/Berlin
X-WR-TIMEZONE:Europe/Berlin
BEGIN:VEVENT
UID:181@tt-djk-dossenheim.de
DTSTART;TZID=Europe/Berlin:20260426T143000
DTEND;TZID=Europe/Berlin:20260426T143000
DTSTAMP:20260125T092836Z
URL:https://tt-djk-dossenheim.de/events/2024-25/ttv-weinheim-west-ii-djk-1
 927-dossenheim/
SUMMARY:TTV Weinheim-West II - DJK 1927 Dossenheim
DESCRIPTION:Dietrich-Bonhoeffer-Sporthalle  Breslauer Str. 60 (Zufahrt Spor
 thalle über Multring)  69469 Weinheim
CATEGORIES:1. Erwachsene
END:VEVENT
BEGIN:VTIMEZONE
TZID:Europe/Berlin
X-LIC-LOCATION:Europe/Berlin
BEGIN:DAYLIGHT
DTSTART:20260329T030000
TZOFFSETFROM:+0100
TZOFFSETTO:+0200
TZNAME:CEST
END:DAYLIGHT
END:VTIMEZONE
END:VCALENDAR